BEGIN:VCALENDAR
VERSION:2.0
PRODID:-//calparents.org//NONSGML kigkonsult.se iCalcreator 2.30.10//
CALSCALE:GREGORIAN
METHOD:PUBLISH
UID:1dbddb45-d73e-411c-8139-5e0fd8dbd836
X-WR-CALDESC:Cada Viernes de cada semana tenemos frutas\, verduras y/ o veg
 etales  frescos para nuestras familias. \nEvery Friday of every week we ha
 ve fresh fruits\, vegetables\, and/or produce for our families.\n
X-WR-RELCALID:e6a9d1e604796f6977c451394e639693
X-WR-TIMEZONE:America/Los_Angeles
BEGIN:VTIMEZONE
TZID:America/Los_Angeles
BEGIN:STANDARD
TZNAME:PST
DTSTART:20251102T020000
TZOFFSETFROM:-0700
TZOFFSETTO:-0800
RDATE:20261101T020000
END:STANDARD
BEGIN:DAYLIGHT
TZNAME:PDT
DTSTART:20250309T020000
TZOFFSETFROM:-0800
TZOFFSETTO:-0700
RDATE:20260308T020000
RDATE:20270314T020000
END:DAYLIGHT
END:VTIMEZONE
BEGIN:VEVENT
UID:0ea00d93-8d15-47b5-b91e-103a52636150
DTSTAMP:20260420T082901Z
DESCRIPTION:Cada Viernes de cada semana tenemos frutas\, verduras y/ o vege
 tales  frescos para nuestras familias. \nEvery Friday of every week we hav
 e fresh fruits\, vegetables\, and/or produce for our families.\n
DTSTART;TZID=America/Los_Angeles:20260211T130000
DTEND;TZID=America/Los_Angeles:20260211T140000
LOCATION:John Reed Elementary School\,   390 Arlen Dr. Portable 3\, Rohnert
  Park\, CA 94928 US
SUMMARY:De la granja a tu despensa- Farm to pantry
END:VEVENT
END:VCALENDAR
