BEGIN:VCALENDAR
VERSION:2.0
PRODID:-//calparents.org//NONSGML kigkonsult.se iCalcreator 2.30.10//
CALSCALE:GREGORIAN
METHOD:PUBLISH
UID:c1cb15a9-8405-4a07-b420-6baf0ade01c9
X-WR-CALDESC:This three-session class helps parents adjust to the challenge
 s that arise after a separation or divorce. This class will offer strategi
 es to develop a new family identity\, build social support\, and understan
 d children’s emotions. Parents will also learn tools to help overcome unre
 solved conflicts and difficulties communicating effectively with former pa
 rtners.
X-WR-RELCALID:48c56010986c386ffc4ec8f028b3d694
X-WR-TIMEZONE:America/Los_Angeles
BEGIN:VTIMEZONE
TZID:America/Los_Angeles
BEGIN:STANDARD
TZNAME:PST
DTSTART:20251102T020000
TZOFFSETFROM:-0700
TZOFFSETTO:-0800
RDATE:20261101T020000
END:STANDARD
BEGIN:DAYLIGHT
TZNAME:PDT
DTSTART:20260308T020000
TZOFFSETFROM:-0800
TZOFFSETTO:-0700
RDATE:20270314T020000
END:DAYLIGHT
END:VTIMEZONE
BEGIN:VEVENT
UID:282ba048-f83d-4e9a-84a7-aa4ca08ffcee
DTSTAMP:20260423T054149Z
DESCRIPTION:This three-session class helps parents adjust to the challenges
  that arise after a separation or divorce. This class will offer strategie
 s to develop a new family identity\, build social support\, and understand
  children’s emotions. Parents will also learn tools to help overcome unres
 olved conflicts and difficulties communicating effectively with former par
 tners.
DTSTART;TZID=America/Los_Angeles:20260506T180000
DTEND;TZID=America/Los_Angeles:20260506T193000
LOCATION:Free online event.
SUMMARY:Transition to Co-Parenting
END:VEVENT
END:VCALENDAR
