BEGIN:VCALENDAR
VERSION:2.0
PRODID:-//calparents.org//NONSGML kigkonsult.se iCalcreator 2.30.10//
CALSCALE:GREGORIAN
METHOD:PUBLISH
UID:cf3fedf3-1e29-419a-9b09-480f2f185829
X-WR-CALDESC:During the group\, our facilitator will provide support\, educ
 ation\, and guidance for families with members who are Autistic or neurodi
 vergent. Families will also have the opportunity to share their experience
 s with the group and learn from one another. This is an ongoing support gr
 oup.
X-WR-RELCALID:725f4cf06a5406884acbe93b2a052adc
X-WR-TIMEZONE:America/Los_Angeles
BEGIN:VTIMEZONE
TZID:America/Los_Angeles
BEGIN:STANDARD
TZNAME:PST
DTSTART:20251102T020000
TZOFFSETFROM:-0700
TZOFFSETTO:-0800
RDATE:20261101T020000
END:STANDARD
BEGIN:DAYLIGHT
TZNAME:PDT
DTSTART:20260308T020000
TZOFFSETFROM:-0800
TZOFFSETTO:-0700
RDATE:20270314T020000
END:DAYLIGHT
END:VTIMEZONE
BEGIN:VEVENT
UID:2aa5c4a2-8a39-4e71-9e3f-6e9edcc4a2ee
DTSTAMP:20260423T054617Z
DESCRIPTION:During the group\, our facilitator will provide support\, educa
 tion\, and guidance for families with members who are Autistic or neurodiv
 ergent. Families will also have the opportunity to share their experiences
  with the group and learn from one another. This is an ongoing support gro
 up.
DTSTART;TZID=America/Los_Angeles:20260506T100000
DTEND;TZID=America/Los_Angeles:20260506T113000
LOCATION:Free online event. Our support groups do not offer certificates of
  completion. This is an ongoing support group. This group is not a class.
SUMMARY:Autism Support Group
END:VEVENT
END:VCALENDAR
